BEGIN:VCALENDAR
VERSION:2.0
PRODID:-//Mikrovillus ry - ECPv5.1.5//NONSGML v1.0//EN
CALSCALE:GREGORIAN
METHOD:PUBLISH
X-WR-CALNAME:Mikrovillus ry
X-ORIGINAL-URL:https://www.mikrovillus.fi
X-WR-CALDESC:Events for Mikrovillus ry
BEGIN:VTIMEZONE
TZID:UTC
BEGIN:STANDARD
TZOFFSETFROM:+0000
TZOFFSETTO:+0000
TZNAME:UTC
DTSTART:20220101T000000
END:STANDARD
END:VTIMEZONE
BEGIN:VEVENT
DTSTART;TZID=UTC:20220916T180000
DTEND;TZID=UTC:20220916T200000
DTSTAMP:20260419T220352
CREATED:20220903T150626Z
LAST-MODIFIED:20220914T085608Z
UID:2016-1663351200-1663358400@www.mikrovillus.fi
SUMMARY:Pesispelit Tomboloiden kanssa
DESCRIPTION:Mikrovillus vs Tombolot \n
URL:https://www.mikrovillus.fi/tapahtuma/pesispelit-2/
LOCATION:Louhelan kenttä\, Länsikatu 17\, Joensuu\, Suomi
END:VEVENT
END:VCALENDAR