BEGIN:VCALENDAR
VERSION:2.0
PRODID:-//Mikrovillus ry - ECPv5.1.5//NONSGML v1.0//EN
CALSCALE:GREGORIAN
METHOD:PUBLISH
X-WR-CALNAME:Mikrovillus ry
X-ORIGINAL-URL:https://www.mikrovillus.fi
X-WR-CALDESC:Events for Mikrovillus ry
BEGIN:VTIMEZONE
TZID:UTC
BEGIN:STANDARD
TZOFFSETFROM:+0000
TZOFFSETTO:+0000
TZNAME:UTC
DTSTART:20220101T000000
END:STANDARD
END:VTIMEZONE
BEGIN:VEVENT
DTSTART;TZID=UTC:20221005T120000
DTEND;TZID=UTC:20221005T210000
DTSTAMP:20260425T105800
CREATED:20220919T100335Z
LAST-MODIFIED:20220919T100335Z
UID:2066-1664971200-1665003600@www.mikrovillus.fi
SUMMARY:Liikuntailtapäivä
DESCRIPTION:Liikuntailtapäivänä on tarjolla on runsaasti liikunta-aktiviteetteja ja erikoistarjouksia liikuntapaikoissa opiskelijoille ja henkilökunnalle. Liikuntailtapäivään osallistuminen ei vaadi SYKETTÄ-tarraa. Liikuntailtapäivän ohjelma on nyt julkaistu ja löydät sen SYKETTÄ-nettisivuilta. \n
URL:https://www.mikrovillus.fi/tapahtuma/liikuntailtapaiva/
END:VEVENT
END:VCALENDAR