BEGIN:VCALENDAR
VERSION:2.0
PRODID:-//Mikrovillus ry - ECPv5.1.5//NONSGML v1.0//EN
CALSCALE:GREGORIAN
METHOD:PUBLISH
X-WR-CALNAME:Mikrovillus ry
X-ORIGINAL-URL:https://www.mikrovillus.fi
X-WR-CALDESC:Events for Mikrovillus ry
BEGIN:VTIMEZONE
TZID:UTC
BEGIN:STANDARD
TZOFFSETFROM:+0000
TZOFFSETTO:+0000
TZNAME:UTC
DTSTART:20220101T000000
END:STANDARD
END:VTIMEZONE
BEGIN:VEVENT
DTSTART;TZID=UTC:20221011T100000
DTEND;TZID=UTC:20221011T140000
DTSTAMP:20260425T110513
CREATED:20221003T174739Z
LAST-MODIFIED:20221003T175552Z
UID:2112-1665482400-1665496800@www.mikrovillus.fi
SUMMARY:Järjestöpäivät (ainejärjestöt)
DESCRIPTION:Järjestöpäivillä ainejärjestöt\, kerhot\, kampusjärjestöt\, ja muut opiskelijaelämään vaikuttavat paikalliset järjestöt pääsevät esittelemään toimintaansa ja verkostoitumaan. Perinteisesti järjestöpäivillä on ollut haalarimerkkimyyntiä. Järjestöpäivät on kaikille avoin tapahtuma eikä sinne ole erillistä pääsymaksua. \n
URL:https://www.mikrovillus.fi/tapahtuma/jarjestopaivat/
LOCATION:Carelia\, Yliopistokatu 4\, Joensuu\, Suomi
END:VEVENT
END:VCALENDAR