BEGIN:VCALENDAR
VERSION:2.0
PRODID:-//Mikrovillus ry - ECPv5.1.5//NONSGML v1.0//EN
CALSCALE:GREGORIAN
METHOD:PUBLISH
X-WR-CALNAME:Mikrovillus ry
X-ORIGINAL-URL:https://www.mikrovillus.fi
X-WR-CALDESC:Events for Mikrovillus ry
BEGIN:VTIMEZONE
TZID:UTC
BEGIN:STANDARD
TZOFFSETFROM:+0000
TZOFFSETTO:+0000
TZNAME:UTC
DTSTART:20220101T000000
END:STANDARD
END:VTIMEZONE
BEGIN:VEVENT
DTSTART;TZID=UTC:20221026T180000
DTEND;TZID=UTC:20221026T230000
DTSTAMP:20260418T064302
CREATED:20221001T104901Z
LAST-MODIFIED:20221003T173838Z
UID:2082-1666807200-1666825200@www.mikrovillus.fi
SUMMARY:Halloween bileet
DESCRIPTION:Villuksen ja medianomien yhteiset Halloween bileet. Tapahtumaan lipunmyynti KideAppissa 17.10. hinnat 2€ ainejärjestöläinen 4€ normi. \n
URL:https://www.mikrovillus.fi/tapahtuma/halloween-bileet/
LOCATION:Metria\, Yliopistokatu 7\, Joensuu\, 80130\, Finland
END:VEVENT
END:VCALENDAR